BEGIN:VCALENDAR
VERSION:2.0
PRODID:icalendar-ruby
CALSCALE:GREGORIAN
METHOD:PUBLISH
BEGIN:VEVENT
DTSTAMP:20260425T002040Z
UID:6-1352405@mielgranyosoy.com
DTSTART:20261015T020000Z
DTEND:20261015T040000Z
CLASS:PUBLIC
CREATED:20260424T152721
DESCRIPTION:\nTodos los miércoles nos reunimos en nuestras casas para habl
 ar de Jesús y hacer crecer nuestras comunidades. Creemos que estas Casas 
 de Avivamiento son luz para las personas que necesitan regresar a casa.\n\
 nHaga clic en este enlace para ver toda nuestras Casas de Avivamientos\nEn
 lace: https://mielgranyosoy.com/casa-de-avivamiento
LAST-MODIFIED:20260424T152721
LOCATION:
SUMMARY:Casa De Avivamiento
URL;VALUE=URI:https://mielgranyosoy.com/events/casa-de-avivamiento/2026-10-
 14
ATTACH;FILENAME=CASA-DE-AVIVAMIENTO-3.png;FMTTYPE=image/png:https://dq5pwpg
 1q8ru0.cloudfront.net/2026/04/05/23/18/43/2a65dd9e-4dc1-49e9-be16-71ddbc52
 034b/CASA-DE-AVIVAMIENTO-3.png
END:VEVENT
END:VCALENDAR
