BEGIN:VCALENDAR
VERSION:2.0
PRODID:icalendar-ruby
CALSCALE:GREGORIAN
METHOD:PUBLISH
BEGIN:VEVENT
DTSTAMP:20260422T115642Z
UID:31-1341080@mielgranyosoy.com
DTSTART:20260822T020000Z
DTEND:20260822T040000Z
CLASS:PUBLIC
CREATED:20260422T040828
DESCRIPTION:
LAST-MODIFIED:20260422T040828
LOCATION:6400 E 46th St Indianapolis Indiana
SUMMARY:Servicio General
URL;VALUE=URI:https://mielgranyosoy.com/events/servicio-general/2026-08-21
ATTACH;FILENAME=Viernes-Servicio.-General.png;FMTTYPE=image/png:https://dq5
 pwpg1q8ru0.cloudfront.net/2026/04/05/23/22/06/17be3572-35e6-41c2-a46e-acce
 a1c6daeb/Viernes-Servicio.-General.png
END:VEVENT
END:VCALENDAR
